BEGIN:VCALENDAR
VERSION:2.0
PRODID:-//Biology Educators Association of New Zealand - ECPv4.5.7//NONSGML v1.0//EN
CALSCALE:GREGORIAN
METHOD:PUBLISH
X-WR-CALNAME:Biology Educators Association of New Zealand
X-ORIGINAL-URL:http://beanz.org.nz
X-WR-CALDESC:Events for Biology Educators Association of New Zealand
BEGIN:VEVENT
DTSTART;VALUE=DATE:20170711
DTEND;VALUE=DATE:20171231
DTSTAMP:20180120T031042
CREATED:20170710T190442Z
LAST-MODIFIED:20170710T190757Z
UID:434-1499731200-1514764799@beanz.org.nz
SUMMARY:BEANZ teachers now have access to Science Internals on Education Perfect
DESCRIPTION:\nNCEA Level 1 Science Internals now available.\nClick here to sign up for a free teacher account to Education Perfect to get started. \nEducation Perfect has developed some amazing new internal assessment resources for NCEA Level 1 Science. We want to share these with your teachers and students by offering complimentary access for the rest of 2017. \nInternal Standards Available for free until the end of 2017: \n90925 Biology 1.1 Practical Investigation \n90930 Chemistry 1.1 Practical Investigation \n90935 Physics 1.1 Practical Investigation \n  \nClick here to sign up for a free teacher account to Education Perfect to get started. \n
URL:http://beanz.org.nz/event/beanz-teachers-now-access-science-internals-education-perfect/
CATEGORIES:Teacher Opportunities
END:VEVENT
END:VCALENDAR