BEGIN:VCALENDAR
VERSION:2.0
PRODID:-//Biology Educators Association of New Zealand - ECPv4.5.7//NONSGML v1.0//EN
CALSCALE:GREGORIAN
METHOD:PUBLISH
X-WR-CALNAME:Biology Educators Association of New Zealand
X-ORIGINAL-URL:http://beanz.org.nz
X-WR-CALDESC:Events for Biology Educators Association of New Zealand
BEGIN:VEVENT
DTSTART;VALUE=DATE:20170612
DTEND;VALUE=DATE:20170612
DTSTAMP:20180121T132721
CREATED:20170328T031932Z
LAST-MODIFIED:20170328T031932Z
UID:291-1497225600-1497311999@beanz.org.nz
SUMMARY:BioLive Registration Closes
DESCRIPTION:Last day for BioLive conference registrations \nMore info here \n  \n
URL:http://beanz.org.nz/event/biolive-registration-closes/
CATEGORIES:Teacher Opportunities
END:VEVENT
END:VCALENDAR