BEGIN:VCALENDAR
VERSION:2.0
PRODID:-//Biology Educators Association of New Zealand - ECPv4.5.7//NONSGML v1.0//EN
CALSCALE:GREGORIAN
METHOD:PUBLISH
X-WR-CALNAME:Biology Educators Association of New Zealand
X-ORIGINAL-URL:http://beanz.org.nz
X-WR-CALDESC:Events for Biology Educators Association of New Zealand
BEGIN:VEVENT
DTSTART;VALUE=DATE:20170403
DTEND;VALUE=DATE:20170403
DTSTAMP:20180120T031513
CREATED:20170328T032205Z
LAST-MODIFIED:20170328T032205Z
UID:292-1491177600-1491263999@beanz.org.nz
SUMMARY:National Biomechanics Day
DESCRIPTION:National Biomechanics Day is a celebration of biomechanics that will be held simultaneously in university labs across New Zealand on 3 April 2017. The movement began in the US as a way to expose secondary school students to hands on experiential learning activities centred around biomechanics research. The event has become so popular that National Biomechanics Day is being celebrated by thousands of students and teachers across international borders\, including UK\, Canada\, Brazil\, and NEW ZEALAND! \nMore info here \n
URL:http://beanz.org.nz/event/national-biomechanics-day/
CATEGORIES:Student Opportunities,Teacher Opportunities
END:VEVENT
END:VCALENDAR