BEGIN:VCALENDAR
VERSION:2.0
PRODID:-//Biology Educators Association of New Zealand - ECPv4.5.7//NONSGML v1.0//EN
CALSCALE:GREGORIAN
METHOD:PUBLISH
X-WR-CALNAME:Biology Educators Association of New Zealand
X-ORIGINAL-URL:http://beanz.org.nz
X-WR-CALDESC:Events for Biology Educators Association of New Zealand
BEGIN:VEVENT
DTSTART;VALUE=DATE:20170328
DTEND;VALUE=DATE:20170415
DTSTAMP:20180121T133944
CREATED:20170328T030813Z
LAST-MODIFIED:20170328T030813Z
UID:286-1490659200-1492300799@beanz.org.nz
SUMMARY:Africa to Aotearoa - The Longest Journey
DESCRIPTION:Great news! BEANZ has partnered with Allan Wilson Research at Otago University and we \nhave been successful in our application for funding under the Unlocking Curious Minds \nproject. In the 2016 BEANZ workshops\, we shared the Who is a New Zealander? project \nwith teachers. We can now expand this to offer 250 teachers a chance to get their own DNA \nanalysed for use in a new project: Africa to Aotearoa – The Longest Journey. \nMore info here: BEANZ Opportunity 2017 \n
URL:http://beanz.org.nz/event/africa-aotearoa-longest-journey/
CATEGORIES:Student Opportunities,Teacher Opportunities
END:VEVENT
END:VCALENDAR